BEGIN:VCALENDAR
VERSION:2.0
PRODID:-//The Balance Project - ECPv4.6.8//NONSGML v1.0//EN
CALSCALE:GREGORIAN
METHOD:PUBLISH
X-WR-CALNAME:The Balance Project
X-ORIGINAL-URL:https://balanceproject.co.nz
X-WR-CALDESC:Events for The Balance Project
BEGIN:VEVENT
DTSTART;TZID=Pacific/Auckland:20171129T160000
DTEND;TZID=Pacific/Auckland:20171129T180000
DTSTAMP:20180122T234119
CREATED:20171109T024328Z
LAST-MODIFIED:20171109T024328Z
UID:336-1511971200-1511978400@balanceproject.co.nz
SUMMARY:Member Drinks
DESCRIPTION:
URL:https://balanceproject.co.nz/event/member-drinks/
LOCATION:Level 1\, 26 St Heliers Bay Road\, Auckland\, New Zealand
END:VEVENT
END:VCALENDAR