BEGIN:VCALENDAR
VERSION:2.0
PRODID:-//The Balance Project - ECPv4.6.8//NONSGML v1.0//EN
CALSCALE:GREGORIAN
METHOD:PUBLISH
X-WR-CALNAME:The Balance Project
X-ORIGINAL-URL:https://balanceproject.co.nz
X-WR-CALDESC:Events for The Balance Project
BEGIN:VEVENT
DTSTART;TZID=Pacific/Auckland:20171213T163000
DTEND;TZID=Pacific/Auckland:20171213T233000
DTSTAMP:20180122T234141
CREATED:20171109T023706Z
LAST-MODIFIED:20171114T024207Z
UID:328-1513182600-1513207800@balanceproject.co.nz
SUMMARY:Christmas Party
DESCRIPTION:Come celebrate Christmas\, get festive and enjoy some gorgeous food\, fabulous wine and awesome company. \n
URL:https://balanceproject.co.nz/event/christmas-party/
LOCATION:1 St Heliers Bay Rd\, Auckland\, Auckland\, 1071\, New Zealand
ORGANIZER;CN="Emma%20Moxon":MAILTO:emma@balanceproject.co.nz
END:VEVENT
END:VCALENDAR